BEGIN:VCALENDAR
VERSION:2.0
PRODID:-//Bluescafe Apeldoorn - ECPv6.15.20//NONSGML v1.0//EN
CALSCALE:GREGORIAN
METHOD:PUBLISH
X-WR-CALNAME:Bluescafe Apeldoorn
X-ORIGINAL-URL:https://bluescafe.nl
X-WR-CALDESC:Evenementen voor Bluescafe Apeldoorn
REFRESH-INTERVAL;VALUE=DURATION:PT1H
X-Robots-Tag:noindex
X-PUBLISHED-TTL:PT1H
BEGIN:VTIMEZONE
TZID:Europe/Paris
BEGIN:DAYLIGHT
TZOFFSETFROM:+0100
TZOFFSETTO:+0200
TZNAME:CEST
DTSTART:20250330T010000
END:DAYLIGHT
BEGIN:STANDARD
TZOFFSETFROM:+0200
TZOFFSETTO:+0100
TZNAME:CET
DTSTART:20251026T010000
END:STANDARD
BEGIN:DAYLIGHT
TZOFFSETFROM:+0100
TZOFFSETTO:+0200
TZNAME:CEST
DTSTART:20260329T010000
END:DAYLIGHT
BEGIN:STANDARD
TZOFFSETFROM:+0200
TZOFFSETTO:+0100
TZNAME:CET
DTSTART:20261025T010000
END:STANDARD
BEGIN:DAYLIGHT
TZOFFSETFROM:+0100
TZOFFSETTO:+0200
TZNAME:CEST
DTSTART:20270328T010000
END:DAYLIGHT
BEGIN:STANDARD
TZOFFSETFROM:+0200
TZOFFSETTO:+0100
TZNAME:CET
DTSTART:20271031T010000
END:STANDARD
END:VTIMEZONE
BEGIN:VEVENT
DTSTART;VALUE=DATE:20260423
DTEND;VALUE=DATE:20260425
DTSTAMP:20260423T142734
CREATED:20260108T172734Z
LAST-MODIFIED:20260108T172734Z
UID:12154-1776906000-1776992399@bluescafe.nl
SUMMARY:Geweldige Gasten
DESCRIPTION:
URL:https://bluescafe.nl/event/geweldige-gasten-25/
END:VEVENT
BEGIN:VEVENT
DTSTART;VALUE=DATE:20260425
DTEND;VALUE=DATE:20260427
DTSTAMP:20260423T142734
CREATED:20260326T124828Z
LAST-MODIFIED:20260422T094412Z
UID:12323-1777078800-1777165199@bluescafe.nl
SUMMARY:Young wood'n Hills
DESCRIPTION:
URL:https://bluescafe.nl/event/young-woodn-hills/
END:VEVENT
BEGIN:VEVENT
DTSTART;VALUE=DATE:20260426
DTEND;VALUE=DATE:20260428
DTSTAMP:20260423T142734
CREATED:20251002T161756Z
LAST-MODIFIED:20260421T184841Z
UID:11923-1777165200-1777251599@bluescafe.nl
SUMMARY:Mad Lee . Let op aanvang 22 uur ivm Koningsnacht
DESCRIPTION:
URL:https://bluescafe.nl/event/mad-lee-9/
END:VEVENT
BEGIN:VEVENT
DTSTART;VALUE=DATE:20260501
DTEND;VALUE=DATE:20260503
DTSTAMP:20260423T142734
CREATED:20260326T125033Z
LAST-MODIFIED:20260410T160341Z
UID:12325-1777597200-1777683599@bluescafe.nl
SUMMARY:Stone Ledge
DESCRIPTION:
URL:https://bluescafe.nl/event/touch-of-blues-3/
END:VEVENT
BEGIN:VEVENT
DTSTART;VALUE=DATE:20260502
DTEND;VALUE=DATE:20260504
DTSTAMP:20260423T142734
CREATED:20251223T093337Z
LAST-MODIFIED:20260326T153003Z
UID:12112-1777683600-1777769999@bluescafe.nl
SUMMARY:Carve
DESCRIPTION:
URL:https://bluescafe.nl/event/carve-7/
END:VEVENT
BEGIN:VEVENT
DTSTART;VALUE=DATE:20260503
DTEND;VALUE=DATE:20260505
DTSTAMP:20260423T142734
CREATED:20251223T093412Z
LAST-MODIFIED:20251223T093412Z
UID:12114-1777770000-1777856399@bluescafe.nl
SUMMARY:Timeless
DESCRIPTION:
URL:https://bluescafe.nl/event/timeless-2/
END:VEVENT
BEGIN:VEVENT
DTSTART;VALUE=DATE:20260508
DTEND;VALUE=DATE:20260510
DTSTAMP:20260423T142734
CREATED:20260213T174845Z
LAST-MODIFIED:20260213T174845Z
UID:12252-1778202000-1778288399@bluescafe.nl
SUMMARY:The Touch
DESCRIPTION:
URL:https://bluescafe.nl/event/the-touch/
END:VEVENT
BEGIN:VEVENT
DTSTART;VALUE=DATE:20260509
DTEND;VALUE=DATE:20260511
DTSTAMP:20260423T142734
CREATED:20251002T161844Z
LAST-MODIFIED:20251002T161844Z
UID:11925-1778288400-1778374799@bluescafe.nl
SUMMARY:Free Bird
DESCRIPTION:
URL:https://bluescafe.nl/event/free-bird-4/
END:VEVENT
BEGIN:VEVENT
DTSTART;VALUE=DATE:20260510
DTEND;VALUE=DATE:20260512
DTSTAMP:20260423T142734
CREATED:20251223T093446Z
LAST-MODIFIED:20251223T093446Z
UID:12116-1778374800-1778461199@bluescafe.nl
SUMMARY:Jimmy Sterman
DESCRIPTION:
URL:https://bluescafe.nl/event/jimmy-sterman-2/
END:VEVENT
BEGIN:VEVENT
DTSTART;VALUE=DATE:20260511
DTEND;VALUE=DATE:20260513
DTSTAMP:20260423T142734
CREATED:20260326T125208Z
LAST-MODIFIED:20260326T125223Z
UID:12327-1778461200-1778547599@bluescafe.nl
SUMMARY:Jamasessie olv Marc en Laura
DESCRIPTION:
URL:https://bluescafe.nl/event/jamasessie-olv-marc-en-laura/
END:VEVENT
BEGIN:VEVENT
DTSTART;VALUE=DATE:20260514
DTEND;VALUE=DATE:20260516
DTSTAMP:20260423T142734
CREATED:20260416T110533Z
LAST-MODIFIED:20260416T110533Z
UID:12381-1778720400-1778806799@bluescafe.nl
SUMMARY:Jamsessie olv Mark en Laura
DESCRIPTION:
URL:https://bluescafe.nl/event/jamsessie-olv-mark-en-laura/
END:VEVENT
BEGIN:VEVENT
DTSTART;VALUE=DATE:20260515
DTEND;VALUE=DATE:20260517
DTSTAMP:20260423T142734
CREATED:20260130T171810Z
LAST-MODIFIED:20260130T171810Z
UID:12198-1778806800-1778893199@bluescafe.nl
SUMMARY:Fuse Tones
DESCRIPTION:
URL:https://bluescafe.nl/event/fuse-tones-3/
END:VEVENT
BEGIN:VEVENT
DTSTART;VALUE=DATE:20260516
DTEND;VALUE=DATE:20260518
DTSTAMP:20260423T142734
CREATED:20251113T174125Z
LAST-MODIFIED:20251113T175315Z
UID:12031-1778893200-1778979599@bluescafe.nl
SUMMARY:Barking Luke
DESCRIPTION:
URL:https://bluescafe.nl/event/bsrking-luke/
END:VEVENT
BEGIN:VEVENT
DTSTART;VALUE=DATE:20260517
DTEND;VALUE=DATE:20260519
DTSTAMP:20260423T142734
CREATED:20251128T164620Z
LAST-MODIFIED:20251128T164620Z
UID:12069-1778979600-1779065999@bluescafe.nl
SUMMARY:Brad Wilson
DESCRIPTION:
URL:https://bluescafe.nl/event/brad-wilson/
END:VEVENT
BEGIN:VEVENT
DTSTART;VALUE=DATE:20260522
DTEND;VALUE=DATE:20260524
DTSTAMP:20260423T142734
CREATED:20260213T174949Z
LAST-MODIFIED:20260213T174949Z
UID:12254-1779411600-1779497999@bluescafe.nl
SUMMARY:Duke & The Royal Clan
DESCRIPTION:
URL:https://bluescafe.nl/event/duke-the-royal-clan-2/
END:VEVENT
BEGIN:VEVENT
DTSTART;VALUE=DATE:20260523
DTEND;VALUE=DATE:20260525
DTSTAMP:20260423T142734
CREATED:20251223T093525Z
LAST-MODIFIED:20251223T093525Z
UID:12118-1779498000-1779584399@bluescafe.nl
SUMMARY:Neo Funk
DESCRIPTION:
URL:https://bluescafe.nl/event/neo-funk/
END:VEVENT
BEGIN:VEVENT
DTSTART;VALUE=DATE:20260524
DTEND;VALUE=DATE:20260526
DTSTAMP:20260423T142734
CREATED:20260213T175035Z
LAST-MODIFIED:20260213T175057Z
UID:12256-1779584400-1779670799@bluescafe.nl
SUMMARY:Raww
DESCRIPTION:
URL:https://bluescafe.nl/event/raw/
END:VEVENT
BEGIN:VEVENT
DTSTART;VALUE=DATE:20260528
DTEND;VALUE=DATE:20260530
DTSTAMP:20260423T142734
CREATED:20260416T110557Z
LAST-MODIFIED:20260416T110557Z
UID:12383-1779930000-1780016399@bluescafe.nl
SUMMARY:Geweldige Gasten
DESCRIPTION:
URL:https://bluescafe.nl/event/geweldige-gasten-26/
END:VEVENT
BEGIN:VEVENT
DTSTART;VALUE=DATE:20260529
DTEND;VALUE=DATE:20260531
DTSTAMP:20260423T142734
CREATED:20260305T190824Z
LAST-MODIFIED:20260305T190824Z
UID:12292-1780016400-1780102799@bluescafe.nl
SUMMARY:GrooveTakers
DESCRIPTION:
URL:https://bluescafe.nl/event/groovetakers-6/
END:VEVENT
BEGIN:VEVENT
DTSTART;VALUE=DATE:20260530
DTEND;VALUE=DATE:20260601
DTSTAMP:20260423T142734
CREATED:20260307T161651Z
LAST-MODIFIED:20260307T161651Z
UID:12296-1780102800-1780189199@bluescafe.nl
SUMMARY:The Hook
DESCRIPTION:
URL:https://bluescafe.nl/event/the-hook-2/
END:VEVENT
BEGIN:VEVENT
DTSTART;VALUE=DATE:20260530
DTEND;VALUE=DATE:20260601
DTSTAMP:20260423T142734
CREATED:20260130T171941Z
LAST-MODIFIED:20260130T171941Z
UID:12200-1780102800-1780189199@bluescafe.nl
SUMMARY:Blues Treath
DESCRIPTION:
URL:https://bluescafe.nl/event/blues-treath/
END:VEVENT
BEGIN:VEVENT
DTSTART;VALUE=DATE:20260530
DTEND;VALUE=DATE:20260601
DTSTAMP:20260423T142734
CREATED:20260416T110629Z
LAST-MODIFIED:20260416T110629Z
UID:12385-1780102800-1780189199@bluescafe.nl
SUMMARY:The Hook
DESCRIPTION:
URL:https://bluescafe.nl/event/the-hook-3/
END:VEVENT
BEGIN:VEVENT
DTSTART;VALUE=DATE:20260531
DTEND;VALUE=DATE:20260602
DTSTAMP:20260423T142734
CREATED:20260108T172845Z
LAST-MODIFIED:20260108T172845Z
UID:12156-1780189200-1780275599@bluescafe.nl
SUMMARY:Cuban Social Club
DESCRIPTION:
URL:https://bluescafe.nl/event/cuban-social-club-2/
END:VEVENT
BEGIN:VEVENT
DTSTART;VALUE=DATE:20260605
DTEND;VALUE=DATE:20260607
DTSTAMP:20260423T142734
CREATED:20260307T161945Z
LAST-MODIFIED:20260307T161945Z
UID:12298-1780621200-1780707599@bluescafe.nl
SUMMARY:Back to You
DESCRIPTION:
URL:https://bluescafe.nl/event/back-to-you/
END:VEVENT
BEGIN:VEVENT
DTSTART;VALUE=DATE:20260605
DTEND;VALUE=DATE:20260607
DTSTAMP:20260423T142734
CREATED:20260416T110655Z
LAST-MODIFIED:20260416T110655Z
UID:12387-1780621200-1780707599@bluescafe.nl
SUMMARY:Back to You
DESCRIPTION:
URL:https://bluescafe.nl/event/back-to-you-2/
END:VEVENT
BEGIN:VEVENT
DTSTART;VALUE=DATE:20260606
DTEND;VALUE=DATE:20260608
DTSTAMP:20260423T142734
CREATED:20260130T172031Z
LAST-MODIFIED:20260130T172031Z
UID:12202-1780707600-1780793999@bluescafe.nl
SUMMARY:Shake theSnake
DESCRIPTION:
URL:https://bluescafe.nl/event/shake-thesnake/
END:VEVENT
BEGIN:VEVENT
DTSTART;VALUE=DATE:20260607
DTEND;VALUE=DATE:20260609
DTSTAMP:20260423T142734
CREATED:20251223T093607Z
LAST-MODIFIED:20251223T093607Z
UID:12120-1780794000-1780880399@bluescafe.nl
SUMMARY:Blue Rebel
DESCRIPTION:
URL:https://bluescafe.nl/event/blue-rebel-12/
END:VEVENT
BEGIN:VEVENT
DTSTART;VALUE=DATE:20260611
DTEND;VALUE=DATE:20260613
DTSTAMP:20260423T142734
CREATED:20260326T125517Z
LAST-MODIFIED:20260326T125517Z
UID:12331-1781139600-1781225999@bluescafe.nl
SUMMARY:Jamsessie olv Mark & Laura
DESCRIPTION:
URL:https://bluescafe.nl/event/jamsessie-olv-mark-laura/
END:VEVENT
BEGIN:VEVENT
DTSTART;VALUE=DATE:20260612
DTEND;VALUE=DATE:20260614
DTSTAMP:20260423T142734
CREATED:20260326T125415Z
LAST-MODIFIED:20260326T125415Z
UID:12329-1781226000-1781312399@bluescafe.nl
SUMMARY:J.B & The Teachers
DESCRIPTION:
URL:https://bluescafe.nl/event/j-b-the-teachers/
END:VEVENT
BEGIN:VEVENT
DTSTART;VALUE=DATE:20260613
DTEND;VALUE=DATE:20260615
DTSTAMP:20260423T142734
CREATED:20251223T093638Z
LAST-MODIFIED:20251223T093638Z
UID:12122-1781312400-1781398799@bluescafe.nl
SUMMARY:Rebel
DESCRIPTION:
URL:https://bluescafe.nl/event/rebel-14/
END:VEVENT
END:VCALENDAR