BEGIN:VCALENDAR
VERSION:2.0
PRODID:-//Bluescafe Apeldoorn - ECPv6.15.20//NONSGML v1.0//EN
CALSCALE:GREGORIAN
METHOD:PUBLISH
X-WR-CALNAME:Bluescafe Apeldoorn
X-ORIGINAL-URL:https://bluescafe.nl
X-WR-CALDESC:Evenementen voor Bluescafe Apeldoorn
REFRESH-INTERVAL;VALUE=DURATION:PT1H
X-Robots-Tag:noindex
X-PUBLISHED-TTL:PT1H
BEGIN:VTIMEZONE
TZID:Europe/Paris
BEGIN:DAYLIGHT
TZOFFSETFROM:+0100
TZOFFSETTO:+0200
TZNAME:CEST
DTSTART:20240331T010000
END:DAYLIGHT
BEGIN:STANDARD
TZOFFSETFROM:+0200
TZOFFSETTO:+0100
TZNAME:CET
DTSTART:20241027T010000
END:STANDARD
BEGIN:DAYLIGHT
TZOFFSETFROM:+0100
TZOFFSETTO:+0200
TZNAME:CEST
DTSTART:20250330T010000
END:DAYLIGHT
BEGIN:STANDARD
TZOFFSETFROM:+0200
TZOFFSETTO:+0100
TZNAME:CET
DTSTART:20251026T010000
END:STANDARD
BEGIN:DAYLIGHT
TZOFFSETFROM:+0100
TZOFFSETTO:+0200
TZNAME:CEST
DTSTART:20260329T010000
END:DAYLIGHT
BEGIN:STANDARD
TZOFFSETFROM:+0200
TZOFFSETTO:+0100
TZNAME:CET
DTSTART:20261025T010000
END:STANDARD
END:VTIMEZONE
BEGIN:VEVENT
DTSTART;VALUE=DATE:20251003
DTEND;VALUE=DATE:20251005
DTSTAMP:20260426T053548
CREATED:20250526T191009Z
LAST-MODIFIED:20250710T151823Z
UID:11640-1759453200-1759539599@bluescafe.nl
SUMMARY:Peach Jam Revival
DESCRIPTION:
URL:https://bluescafe.nl/event/peach-jam-revival-2/
END:VEVENT
BEGIN:VEVENT
DTSTART;VALUE=DATE:20251004
DTEND;VALUE=DATE:20251006
DTSTAMP:20260426T053548
CREATED:20250511T093318Z
LAST-MODIFIED:20250924T112904Z
UID:11581-1759539600-1759625999@bluescafe.nl
SUMMARY:BUB
DESCRIPTION:
URL:https://bluescafe.nl/event/bub/
END:VEVENT
BEGIN:VEVENT
DTSTART;TZID=Europe/Paris:20251005T160000
DTEND;TZID=Europe/Paris:20251005T200000
DTSTAMP:20260426T053548
CREATED:20250330T073533Z
LAST-MODIFIED:20250330T073546Z
UID:11497-1759680000-1759694400@bluescafe.nl
SUMMARY:Doctor’s Order
DESCRIPTION:
URL:https://bluescafe.nl/event/doctors-order/
END:VEVENT
BEGIN:VEVENT
DTSTART;VALUE=DATE:20251009
DTEND;VALUE=DATE:20251011
DTSTAMP:20260426T053548
CREATED:20251002T160456Z
LAST-MODIFIED:20251002T160456Z
UID:11897-1759971600-1760057999@bluescafe.nl
SUMMARY:Jamsessie o.l.v. Mark en Laura
DESCRIPTION:
URL:https://bluescafe.nl/event/jamsessie-o-l-v-mark-en-laura-6/
END:VEVENT
BEGIN:VEVENT
DTSTART;TZID=Europe/Paris:20251010T220000
DTEND;TZID=Europe/Paris:20251010T220000
DTSTAMP:20260426T053548
CREATED:20250526T191104Z
LAST-MODIFIED:20250717T151820Z
UID:11642-1760133600-1760133600@bluescafe.nl
SUMMARY:Mareylebone
DESCRIPTION:
URL:https://bluescafe.nl/event/marlibone/
END:VEVENT
BEGIN:VEVENT
DTSTART;TZID=Europe/Paris:20251011T220000
DTEND;TZID=Europe/Paris:20251011T220000
DTSTAMP:20260426T053548
CREATED:20250526T191143Z
LAST-MODIFIED:20250705T112536Z
UID:11644-1760220000-1760220000@bluescafe.nl
SUMMARY:Brad Wilson
DESCRIPTION:
URL:https://bluescafe.nl/event/brad-wilsaon/
END:VEVENT
BEGIN:VEVENT
DTSTART;TZID=Europe/Paris:20251012T160000
DTEND;TZID=Europe/Paris:20251012T200000
DTSTAMP:20260426T053548
CREATED:20250228T170744Z
LAST-MODIFIED:20250327T174036Z
UID:11435-1760284800-1760299200@bluescafe.nl
SUMMARY:The Canada Bluesband
DESCRIPTION:
URL:https://bluescafe.nl/event/the-canda-bluesband/
END:VEVENT
BEGIN:VEVENT
DTSTART;VALUE=DATE:20251017
DTEND;VALUE=DATE:20251019
DTSTAMP:20260426T053548
CREATED:20250915T171235Z
LAST-MODIFIED:20250915T171235Z
UID:11871-1760662800-1760749199@bluescafe.nl
SUMMARY:Bonyouri & Band
DESCRIPTION:
URL:https://bluescafe.nl/event/bonyouri-band/
END:VEVENT
BEGIN:VEVENT
DTSTART;TZID=Europe/Paris:20251018T220000
DTEND;TZID=Europe/Paris:20251019T010000
DTSTAMP:20260426T053548
CREATED:20250422T075224Z
LAST-MODIFIED:20250422T075224Z
UID:11538-1760824800-1760835600@bluescafe.nl
SUMMARY:Highway R & B Gang
DESCRIPTION:
URL:https://bluescafe.nl/event/highway-r-b-gang/
END:VEVENT
BEGIN:VEVENT
DTSTART;VALUE=DATE:20251019
DTEND;VALUE=DATE:20251021
DTSTAMP:20260426T053548
CREATED:20250905T154447Z
LAST-MODIFIED:20250905T154447Z
UID:11846-1760835600-1760921999@bluescafe.nl
SUMMARY:Maarten Russian
DESCRIPTION:
URL:https://bluescafe.nl/event/maarten-russian/
END:VEVENT
BEGIN:VEVENT
DTSTART;TZID=Europe/Paris:20251024T220000
DTEND;TZID=Europe/Paris:20251024T220000
DTSTAMP:20260426T053548
CREATED:20250705T112656Z
LAST-MODIFIED:20251024T161303Z
UID:11721-1761343200-1761343200@bluescafe.nl
SUMMARY:Mad Lee
DESCRIPTION:
URL:https://bluescafe.nl/event/thats-the-blues/
END:VEVENT
BEGIN:VEVENT
DTSTART;TZID=Europe/Paris:20251026T160000
DTEND;TZID=Europe/Paris:20251026T200000
DTSTAMP:20260426T053548
CREATED:20250330T073815Z
LAST-MODIFIED:20251018T110004Z
UID:11502-1761494400-1761508800@bluescafe.nl
SUMMARY:Hawkeye
DESCRIPTION:
URL:https://bluescafe.nl/event/howkeye/
END:VEVENT
BEGIN:VEVENT
DTSTART;VALUE=DATE:20251030
DTEND;VALUE=DATE:20251101
DTSTAMP:20260426T053548
CREATED:20250905T154538Z
LAST-MODIFIED:20250905T154538Z
UID:11848-1761786000-1761872399@bluescafe.nl
SUMMARY:Geweldige Gasten
DESCRIPTION:
URL:https://bluescafe.nl/event/geweldige-gasten-20/
END:VEVENT
BEGIN:VEVENT
DTSTART;VALUE=DATE:20251031
DTEND;VALUE=DATE:20251102
DTSTAMP:20260426T053548
CREATED:20251002T160542Z
LAST-MODIFIED:20251002T160542Z
UID:11899-1761872400-1761958799@bluescafe.nl
SUMMARY:Richard Stutholme
DESCRIPTION:
URL:https://bluescafe.nl/event/richard-stutholme/
END:VEVENT
END:VCALENDAR