BEGIN:VCALENDAR
VERSION:2.0
PRODID:-//Bluescafe Apeldoorn - ECPv6.15.20//NONSGML v1.0//EN
CALSCALE:GREGORIAN
METHOD:PUBLISH
X-ORIGINAL-URL:https://bluescafe.nl
X-WR-CALDESC:Evenementen voor Bluescafe Apeldoorn
REFRESH-INTERVAL;VALUE=DURATION:PT1H
X-Robots-Tag:noindex
X-PUBLISHED-TTL:PT1H
BEGIN:VTIMEZONE
TZID:Europe/Paris
BEGIN:DAYLIGHT
TZOFFSETFROM:+0100
TZOFFSETTO:+0200
TZNAME:CEST
DTSTART:20240331T010000
END:DAYLIGHT
BEGIN:STANDARD
TZOFFSETFROM:+0200
TZOFFSETTO:+0100
TZNAME:CET
DTSTART:20241027T010000
END:STANDARD
BEGIN:DAYLIGHT
TZOFFSETFROM:+0100
TZOFFSETTO:+0200
TZNAME:CEST
DTSTART:20250330T010000
END:DAYLIGHT
BEGIN:STANDARD
TZOFFSETFROM:+0200
TZOFFSETTO:+0100
TZNAME:CET
DTSTART:20251026T010000
END:STANDARD
BEGIN:DAYLIGHT
TZOFFSETFROM:+0100
TZOFFSETTO:+0200
TZNAME:CEST
DTSTART:20260329T010000
END:DAYLIGHT
BEGIN:STANDARD
TZOFFSETFROM:+0200
TZOFFSETTO:+0100
TZNAME:CET
DTSTART:20261025T010000
END:STANDARD
END:VTIMEZONE
BEGIN:VEVENT
DTSTART;TZID=Europe/Paris:20251101T080000
DTEND;TZID=Europe/Paris:20251101T170000
DTSTAMP:20260426T034853
CREATED:20250801T151159Z
LAST-MODIFIED:20250801T151159Z
UID:11797-1761984000-1762016400@bluescafe.nl
SUMMARY:Take a Leak
DESCRIPTION:
URL:https://bluescafe.nl/event/take-a-leak/
END:VEVENT
BEGIN:VEVENT
DTSTART;TZID=Europe/Paris:20251102T160000
DTEND;TZID=Europe/Paris:20251102T200000
DTSTAMP:20260426T034853
CREATED:20250422T075352Z
LAST-MODIFIED:20251031T163107Z
UID:11542-1762099200-1762113600@bluescafe.nl
SUMMARY:Reflextion
DESCRIPTION:
URL:https://bluescafe.nl/event/groove-takers-8/
END:VEVENT
BEGIN:VEVENT
DTSTART;VALUE=DATE:20251107
DTEND;VALUE=DATE:20251109
DTSTAMP:20260426T034853
CREATED:20250801T151421Z
LAST-MODIFIED:20250801T151421Z
UID:11799-1762477200-1762563599@bluescafe.nl
SUMMARY:Carve
DESCRIPTION:
URL:https://bluescafe.nl/event/carve-6/
END:VEVENT
BEGIN:VEVENT
DTSTART;TZID=Europe/Paris:20251109T160000
DTEND;TZID=Europe/Paris:20251109T200000
DTSTAMP:20260426T034853
CREATED:20250228T170921Z
LAST-MODIFIED:20250228T170921Z
UID:11437-1762704000-1762718400@bluescafe.nl
SUMMARY:Buddy & Friends
DESCRIPTION:
URL:https://bluescafe.nl/event/buddy-friends-8/
END:VEVENT
BEGIN:VEVENT
DTSTART;VALUE=DATE:20251113
DTEND;VALUE=DATE:20251115
DTSTAMP:20260426T034853
CREATED:20250905T154627Z
LAST-MODIFIED:20250905T154627Z
UID:11850-1762995600-1763081999@bluescafe.nl
SUMMARY:Jamsessie o.l.v. Mark en Laura
DESCRIPTION:
URL:https://bluescafe.nl/event/jamsessie-o-l-v-mark-en-laura-5/
END:VEVENT
BEGIN:VEVENT
DTSTART;VALUE=DATE:20251114
DTEND;VALUE=DATE:20251116
DTSTAMP:20260426T034853
CREATED:20250804T174440Z
LAST-MODIFIED:20250929T143205Z
UID:11814-1763082000-1763168399@bluescafe.nl
SUMMARY:Kick some Kinks
DESCRIPTION:
URL:https://bluescafe.nl/event/on-the-blues-side/
END:VEVENT
BEGIN:VEVENT
DTSTART;TZID=Europe/Paris:20251115T220000
DTEND;TZID=Europe/Paris:20251115T220000
DTSTAMP:20260426T034853
CREATED:20250526T191427Z
LAST-MODIFIED:20250804T174509Z
UID:11649-1763244000-1763244000@bluescafe.nl
SUMMARY:The Bössels
DESCRIPTION:
URL:https://bluescafe.nl/event/the-bossels-2/
END:VEVENT
BEGIN:VEVENT
DTSTART;TZID=Europe/Paris:20251116T160000
DTEND;TZID=Europe/Paris:20251116T200000
DTSTAMP:20260426T034853
CREATED:20250526T191504Z
LAST-MODIFIED:20250526T191504Z
UID:11651-1763308800-1763323200@bluescafe.nl
SUMMARY:Razzels
DESCRIPTION:
URL:https://bluescafe.nl/event/razzels-2/
END:VEVENT
BEGIN:VEVENT
DTSTART;VALUE=DATE:20251121
DTEND;VALUE=DATE:20251123
DTSTAMP:20260426T034853
CREATED:20250801T151512Z
LAST-MODIFIED:20250801T151512Z
UID:11801-1763686800-1763773199@bluescafe.nl
SUMMARY:Floodline
DESCRIPTION:
URL:https://bluescafe.nl/event/floodline/
END:VEVENT
BEGIN:VEVENT
DTSTART;VALUE=DATE:20251122
DTEND;VALUE=DATE:20251124
DTSTAMP:20260426T034853
CREATED:20250801T151637Z
LAST-MODIFIED:20250918T142009Z
UID:11803-1763773200-1763859599@bluescafe.nl
SUMMARY:Classic Rock Company
DESCRIPTION:
URL:https://bluescafe.nl/event/sinners/
END:VEVENT
BEGIN:VEVENT
DTSTART;TZID=Europe/Paris:20251123T160000
DTEND;TZID=Europe/Paris:20251123T200000
DTSTAMP:20260426T034853
CREATED:20250705T112928Z
LAST-MODIFIED:20250705T112946Z
UID:11725-1763913600-1763928000@bluescafe.nl
SUMMARY:Blue Rebel
DESCRIPTION:
URL:https://bluescafe.nl/event/blues-rebel/
END:VEVENT
BEGIN:VEVENT
DTSTART;VALUE=DATE:20251127
DTEND;VALUE=DATE:20251129
DTSTAMP:20260426T034853
CREATED:20250905T154712Z
LAST-MODIFIED:20250905T154712Z
UID:11852-1764205200-1764291599@bluescafe.nl
SUMMARY:Geweldige Gasten
DESCRIPTION:
URL:https://bluescafe.nl/event/geweldige-gasten-21/
END:VEVENT
BEGIN:VEVENT
DTSTART;VALUE=DATE:20251128
DTEND;VALUE=DATE:20251130
DTSTAMP:20260426T034853
CREATED:20250801T151748Z
LAST-MODIFIED:20250801T151748Z
UID:11805-1764291600-1764377999@bluescafe.nl
SUMMARY:Willy Kers
DESCRIPTION:
URL:https://bluescafe.nl/event/willy-kers/
END:VEVENT
BEGIN:VEVENT
DTSTART;TZID=Europe/Paris:20251129T220000
DTEND;TZID=Europe/Paris:20251129T235900
DTSTAMP:20260426T034853
CREATED:20250228T171028Z
LAST-MODIFIED:20250228T171028Z
UID:11439-1764453600-1764460740@bluescafe.nl
SUMMARY:Rebel
DESCRIPTION:
URL:https://bluescafe.nl/event/rebel-12/
END:VEVENT
BEGIN:VEVENT
DTSTART;TZID=Europe/Paris:20251130T160000
DTEND;TZID=Europe/Paris:20251130T200000
DTSTAMP:20260426T034853
CREATED:20250526T191629Z
LAST-MODIFIED:20250526T191629Z
UID:11653-1764518400-1764532800@bluescafe.nl
SUMMARY:Suzy’s Crew
DESCRIPTION:
URL:https://bluescafe.nl/event/suzys-crew-4/
END:VEVENT
END:VCALENDAR