BEGIN:VCALENDAR
VERSION:2.0
PRODID:-//Bluescafe Apeldoorn - ECPv6.15.20//NONSGML v1.0//EN
CALSCALE:GREGORIAN
METHOD:PUBLISH
X-ORIGINAL-URL:https://bluescafe.nl
X-WR-CALDESC:Evenementen voor Bluescafe Apeldoorn
REFRESH-INTERVAL;VALUE=DURATION:PT1H
X-Robots-Tag:noindex
X-PUBLISHED-TTL:PT1H
BEGIN:VTIMEZONE
TZID:Europe/Paris
BEGIN:DAYLIGHT
TZOFFSETFROM:+0100
TZOFFSETTO:+0200
TZNAME:CEST
DTSTART:20250330T010000
END:DAYLIGHT
BEGIN:STANDARD
TZOFFSETFROM:+0200
TZOFFSETTO:+0100
TZNAME:CET
DTSTART:20251026T010000
END:STANDARD
BEGIN:DAYLIGHT
TZOFFSETFROM:+0100
TZOFFSETTO:+0200
TZNAME:CEST
DTSTART:20260329T010000
END:DAYLIGHT
BEGIN:STANDARD
TZOFFSETFROM:+0200
TZOFFSETTO:+0100
TZNAME:CET
DTSTART:20261025T010000
END:STANDARD
BEGIN:DAYLIGHT
TZOFFSETFROM:+0100
TZOFFSETTO:+0200
TZNAME:CEST
DTSTART:20270328T010000
END:DAYLIGHT
BEGIN:STANDARD
TZOFFSETFROM:+0200
TZOFFSETTO:+0100
TZNAME:CET
DTSTART:20271031T010000
END:STANDARD
END:VTIMEZONE
BEGIN:VEVENT
DTSTART;VALUE=DATE:20260101
DTEND;VALUE=DATE:20260103
DTSTAMP:20260426T002944
CREATED:20251113T172739Z
LAST-MODIFIED:20251231T095626Z
UID:11998-1767229200-1767315599@bluescafe.nl
SUMMARY:De Beste Wensen Jam
DESCRIPTION:
URL:https://bluescafe.nl/event/the-day-after/
END:VEVENT
BEGIN:VEVENT
DTSTART;VALUE=DATE:20260102
DTEND;VALUE=DATE:20260104
DTSTAMP:20260426T002944
CREATED:20251231T095958Z
LAST-MODIFIED:20251231T095958Z
UID:12142-1767315600-1767401999@bluescafe.nl
SUMMARY:The Outlandos
DESCRIPTION:
URL:https://bluescafe.nl/event/the-outlandos/
END:VEVENT
BEGIN:VEVENT
DTSTART;VALUE=DATE:20260103
DTEND;VALUE=DATE:20260105
DTSTAMP:20260426T002944
CREATED:20251231T095817Z
LAST-MODIFIED:20251231T095817Z
UID:12140-1767402000-1767488399@bluescafe.nl
SUMMARY:The Highway R&B Gang
DESCRIPTION:
URL:https://bluescafe.nl/event/the-highway-rb-gang-4/
END:VEVENT
BEGIN:VEVENT
DTSTART;VALUE=DATE:20260104
DTEND;VALUE=DATE:20260106
DTSTAMP:20260426T002944
CREATED:20251223T092348Z
LAST-MODIFIED:20251223T092348Z
UID:12090-1767488400-1767574799@bluescafe.nl
SUMMARY:The Caverns
DESCRIPTION:
URL:https://bluescafe.nl/event/the-caverns-2/
END:VEVENT
BEGIN:VEVENT
DTSTART;VALUE=DATE:20260109
DTEND;VALUE=DATE:20260111
DTSTAMP:20260426T002944
CREATED:20251113T172835Z
LAST-MODIFIED:20251113T172835Z
UID:12000-1767920400-1768006799@bluescafe.nl
SUMMARY:Mister J. & The Teachers
DESCRIPTION:
URL:https://bluescafe.nl/event/mister-j-the-teachers/
END:VEVENT
BEGIN:VEVENT
DTSTART;VALUE=DATE:20260110
DTEND;VALUE=DATE:20260112
DTSTAMP:20260426T002944
CREATED:20251002T160729Z
LAST-MODIFIED:20251002T160729Z
UID:11903-1768006800-1768093199@bluescafe.nl
SUMMARY:Stones on fire
DESCRIPTION:
URL:https://bluescafe.nl/event/stones-on-fire-2/
END:VEVENT
BEGIN:VEVENT
DTSTART;VALUE=DATE:20260111
DTEND;VALUE=DATE:20260113
DTSTAMP:20260426T002944
CREATED:20251002T160830Z
LAST-MODIFIED:20251024T162027Z
UID:11905-1768093200-1768179599@bluescafe.nl
SUMMARY:Kick Some Kinks
DESCRIPTION:
URL:https://bluescafe.nl/event/fout-horseman/
END:VEVENT
BEGIN:VEVENT
DTSTART;VALUE=DATE:20260115
DTEND;VALUE=DATE:20260117
DTSTAMP:20260426T002944
CREATED:20251113T172907Z
LAST-MODIFIED:20251113T172907Z
UID:12002-1768438800-1768525199@bluescafe.nl
SUMMARY:Jamsessie
DESCRIPTION:
URL:https://bluescafe.nl/event/jamsessie-58/
END:VEVENT
BEGIN:VEVENT
DTSTART;VALUE=DATE:20260116
DTEND;VALUE=DATE:20260118
DTSTAMP:20260426T002944
CREATED:20251113T172954Z
LAST-MODIFIED:20260116T072820Z
UID:12004-1768525200-1768611599@bluescafe.nl
SUMMARY:New Kink
DESCRIPTION:Pop rock covers
URL:https://bluescafe.nl/event/the-yearz/
END:VEVENT
BEGIN:VEVENT
DTSTART;VALUE=DATE:20260117
DTEND;VALUE=DATE:20260119
DTSTAMP:20260426T002944
CREATED:20251002T160919Z
LAST-MODIFIED:20260109T153419Z
UID:11907-1768611600-1768697999@bluescafe.nl
SUMMARY:Rosie Band
DESCRIPTION:
URL:https://bluescafe.nl/event/rozie-band/
END:VEVENT
BEGIN:VEVENT
DTSTART;VALUE=DATE:20260118
DTEND;VALUE=DATE:20260120
DTSTAMP:20260426T002944
CREATED:20251002T161008Z
LAST-MODIFIED:20251002T161008Z
UID:11909-1768698000-1768784399@bluescafe.nl
SUMMARY:The Captain
DESCRIPTION:
URL:https://bluescafe.nl/event/the-captain-14/
END:VEVENT
BEGIN:VEVENT
DTSTART;VALUE=DATE:20260123
DTEND;VALUE=DATE:20260125
DTSTAMP:20260426T002944
CREATED:20251223T092441Z
LAST-MODIFIED:20251223T092441Z
UID:12092-1769130000-1769216399@bluescafe.nl
SUMMARY:Automatic Blues
DESCRIPTION:
URL:https://bluescafe.nl/event/automatic-blues-2/
END:VEVENT
BEGIN:VEVENT
DTSTART;VALUE=DATE:20260124
DTEND;VALUE=DATE:20260126
DTSTAMP:20260426T002944
CREATED:20251002T161109Z
LAST-MODIFIED:20251002T161109Z
UID:11911-1769216400-1769302799@bluescafe.nl
SUMMARY:Damin & The little band
DESCRIPTION:
URL:https://bluescafe.nl/event/damin-the-little-band/
END:VEVENT
BEGIN:VEVENT
DTSTART;VALUE=DATE:20260125
DTEND;VALUE=DATE:20260127
DTSTAMP:20260426T002944
CREATED:20260116T173229Z
LAST-MODIFIED:20260116T173229Z
UID:12174-1769302800-1769389199@bluescafe.nl
SUMMARY:JPK Band
DESCRIPTION:
URL:https://bluescafe.nl/event/jpk-band-8/
END:VEVENT
BEGIN:VEVENT
DTSTART;VALUE=DATE:20260129
DTEND;VALUE=DATE:20260131
DTSTAMP:20260426T002944
CREATED:20251113T173137Z
LAST-MODIFIED:20251113T173137Z
UID:12010-1769648400-1769734799@bluescafe.nl
SUMMARY:Geweldige GASTEN
DESCRIPTION:
URL:https://bluescafe.nl/event/geweldige-gasten-22/
END:VEVENT
BEGIN:VEVENT
DTSTART;VALUE=DATE:20260130
DTEND;VALUE=DATE:20260201
DTSTAMP:20260426T002944
CREATED:20251002T161155Z
LAST-MODIFIED:20251002T161155Z
UID:11913-1769734800-1769821199@bluescafe.nl
SUMMARY:Sugar Mama
DESCRIPTION:
URL:https://bluescafe.nl/event/sugar-mama-23/
END:VEVENT
BEGIN:VEVENT
DTSTART;VALUE=DATE:20260131
DTEND;VALUE=DATE:20260202
DTSTAMP:20260426T002944
CREATED:20251113T173214Z
LAST-MODIFIED:20251113T173214Z
UID:12012-1769821200-1769907599@bluescafe.nl
SUMMARY:Bluzin’58
DESCRIPTION:
URL:https://bluescafe.nl/event/bluzin58-4/
END:VEVENT
END:VCALENDAR