BEGIN:VCALENDAR
VERSION:2.0
PRODID:-//Bluescafe Apeldoorn - ECPv6.15.20//NONSGML v1.0//EN
CALSCALE:GREGORIAN
METHOD:PUBLISH
X-ORIGINAL-URL:https://bluescafe.nl
X-WR-CALDESC:Evenementen voor Bluescafe Apeldoorn
REFRESH-INTERVAL;VALUE=DURATION:PT1H
X-Robots-Tag:noindex
X-PUBLISHED-TTL:PT1H
BEGIN:VTIMEZONE
TZID:Europe/Paris
BEGIN:DAYLIGHT
TZOFFSETFROM:+0100
TZOFFSETTO:+0200
TZNAME:CEST
DTSTART:20250330T010000
END:DAYLIGHT
BEGIN:STANDARD
TZOFFSETFROM:+0200
TZOFFSETTO:+0100
TZNAME:CET
DTSTART:20251026T010000
END:STANDARD
BEGIN:DAYLIGHT
TZOFFSETFROM:+0100
TZOFFSETTO:+0200
TZNAME:CEST
DTSTART:20260329T010000
END:DAYLIGHT
BEGIN:STANDARD
TZOFFSETFROM:+0200
TZOFFSETTO:+0100
TZNAME:CET
DTSTART:20261025T010000
END:STANDARD
BEGIN:DAYLIGHT
TZOFFSETFROM:+0100
TZOFFSETTO:+0200
TZNAME:CEST
DTSTART:20270328T010000
END:DAYLIGHT
BEGIN:STANDARD
TZOFFSETFROM:+0200
TZOFFSETTO:+0100
TZNAME:CET
DTSTART:20271031T010000
END:STANDARD
END:VTIMEZONE
BEGIN:VEVENT
DTSTART;VALUE=DATE:20260201
DTEND;VALUE=DATE:20260203
DTSTAMP:20260425T225200
CREATED:20251002T161313Z
LAST-MODIFIED:20260130T165523Z
UID:11915-1769907600-1769993999@bluescafe.nl
SUMMARY:Janet Renders
DESCRIPTION:
URL:https://bluescafe.nl/event/jeanet-jackson/
END:VEVENT
BEGIN:VEVENT
DTSTART;VALUE=DATE:20260206
DTEND;VALUE=DATE:20260208
DTSTAMP:20260425T225200
CREATED:20251223T092514Z
LAST-MODIFIED:20251223T092514Z
UID:12094-1770339600-1770425999@bluescafe.nl
SUMMARY:StoneLedge
DESCRIPTION:
URL:https://bluescafe.nl/event/stoneledge-4/
END:VEVENT
BEGIN:VEVENT
DTSTART;VALUE=DATE:20260207
DTEND;VALUE=DATE:20260209
DTSTAMP:20260425T225200
CREATED:20251002T161410Z
LAST-MODIFIED:20251002T161410Z
UID:11917-1770426000-1770512399@bluescafe.nl
SUMMARY:Shake the Snake
DESCRIPTION:
URL:https://bluescafe.nl/event/shake-the-snake-2/
END:VEVENT
BEGIN:VEVENT
DTSTART;VALUE=DATE:20260208
DTEND;VALUE=DATE:20260210
DTSTAMP:20260425T225200
CREATED:20251002T161502Z
LAST-MODIFIED:20251002T161502Z
UID:11919-1770512400-1770598799@bluescafe.nl
SUMMARY:Spinners Blues Machine
DESCRIPTION:
URL:https://bluescafe.nl/event/spinners-blues-machine-8/
END:VEVENT
BEGIN:VEVENT
DTSTART;VALUE=DATE:20260212
DTEND;VALUE=DATE:20260214
DTSTAMP:20260425T225200
CREATED:20251223T092554Z
LAST-MODIFIED:20251223T092554Z
UID:12096-1770858000-1770944399@bluescafe.nl
SUMMARY:Jamsessie
DESCRIPTION:
URL:https://bluescafe.nl/event/jamsessie-59/
END:VEVENT
BEGIN:VEVENT
DTSTART;VALUE=DATE:20260213
DTEND;VALUE=DATE:20260215
DTSTAMP:20260425T225200
CREATED:20251223T092703Z
LAST-MODIFIED:20251223T092703Z
UID:12098-1770944400-1771030799@bluescafe.nl
SUMMARY:Blue Jamin
DESCRIPTION:
URL:https://bluescafe.nl/event/blue-jamin/
END:VEVENT
BEGIN:VEVENT
DTSTART;VALUE=DATE:20260214
DTEND;VALUE=DATE:20260216
DTSTAMP:20260425T225200
CREATED:20251024T163358Z
LAST-MODIFIED:20260210T090028Z
UID:11949-1771030800-1771117199@bluescafe.nl
SUMMARY:SunKing
DESCRIPTION:
URL:https://bluescafe.nl/event/sunking/
END:VEVENT
BEGIN:VEVENT
DTSTART;VALUE=DATE:20260215
DTEND;VALUE=DATE:20260217
DTSTAMP:20260425T225200
CREATED:20251113T173252Z
LAST-MODIFIED:20251113T173252Z
UID:12014-1771117200-1771203599@bluescafe.nl
SUMMARY:Govert Bluesband
DESCRIPTION:
URL:https://bluescafe.nl/event/govert-bluesband/
END:VEVENT
BEGIN:VEVENT
DTSTART;VALUE=DATE:20260221
DTEND;VALUE=DATE:20260223
DTSTAMP:20260425T225200
CREATED:20251223T092745Z
LAST-MODIFIED:20260130T171201Z
UID:12100-1771635600-1771721999@bluescafe.nl
SUMMARY:Sound Paper Birds
DESCRIPTION:
URL:https://bluescafe.nl/event/sound-paper-bird/
END:VEVENT
BEGIN:VEVENT
DTSTART;VALUE=DATE:20260222
DTEND;VALUE=DATE:20260224
DTSTAMP:20260425T225200
CREATED:20251024T163604Z
LAST-MODIFIED:20260221T151035Z
UID:11953-1771722000-1771808399@bluescafe.nl
SUMMARY:Bernard Brogue Band
DESCRIPTION:
URL:https://bluescafe.nl/event/oud-ijzer/
END:VEVENT
BEGIN:VEVENT
DTSTART;VALUE=DATE:20260226
DTEND;VALUE=DATE:20260228
DTSTAMP:20260425T225200
CREATED:20251223T092832Z
LAST-MODIFIED:20251223T092832Z
UID:12102-1772067600-1772153999@bluescafe.nl
SUMMARY:Geweldige Gasten
DESCRIPTION:
URL:https://bluescafe.nl/event/geweldige-gasten-23/
END:VEVENT
BEGIN:VEVENT
DTSTART;VALUE=DATE:20260227
DTEND;VALUE=DATE:20260301
DTSTAMP:20260425T225200
CREATED:20251128T163610Z
LAST-MODIFIED:20251128T163610Z
UID:12053-1772154000-1772240399@bluescafe.nl
SUMMARY:Tom Robin
DESCRIPTION:
URL:https://bluescafe.nl/event/tom-robin/
END:VEVENT
BEGIN:VEVENT
DTSTART;VALUE=DATE:20260228
DTEND;VALUE=DATE:20260302
DTSTAMP:20260425T225200
CREATED:20251128T163711Z
LAST-MODIFIED:20251128T163711Z
UID:12055-1772240400-1772326799@bluescafe.nl
SUMMARY:Lowdown Spirit
DESCRIPTION:
URL:https://bluescafe.nl/event/lowdown-spirit/
END:VEVENT
END:VCALENDAR