BEGIN:VCALENDAR
VERSION:2.0
PRODID:-//Bluescafe Apeldoorn - ECPv6.15.20//NONSGML v1.0//EN
CALSCALE:GREGORIAN
METHOD:PUBLISH
X-WR-CALNAME:Bluescafe Apeldoorn
X-ORIGINAL-URL:https://bluescafe.nl
X-WR-CALDESC:Evenementen voor Bluescafe Apeldoorn
REFRESH-INTERVAL;VALUE=DURATION:PT1H
X-Robots-Tag:noindex
X-PUBLISHED-TTL:PT1H
BEGIN:VTIMEZONE
TZID:Europe/Paris
BEGIN:DAYLIGHT
TZOFFSETFROM:+0100
TZOFFSETTO:+0200
TZNAME:CEST
DTSTART:20250330T010000
END:DAYLIGHT
BEGIN:STANDARD
TZOFFSETFROM:+0200
TZOFFSETTO:+0100
TZNAME:CET
DTSTART:20251026T010000
END:STANDARD
BEGIN:DAYLIGHT
TZOFFSETFROM:+0100
TZOFFSETTO:+0200
TZNAME:CEST
DTSTART:20260329T010000
END:DAYLIGHT
BEGIN:STANDARD
TZOFFSETFROM:+0200
TZOFFSETTO:+0100
TZNAME:CET
DTSTART:20261025T010000
END:STANDARD
BEGIN:DAYLIGHT
TZOFFSETFROM:+0100
TZOFFSETTO:+0200
TZNAME:CEST
DTSTART:20270328T010000
END:DAYLIGHT
BEGIN:STANDARD
TZOFFSETFROM:+0200
TZOFFSETTO:+0100
TZNAME:CET
DTSTART:20271031T010000
END:STANDARD
END:VTIMEZONE
BEGIN:VEVENT
DTSTART;VALUE=DATE:20260301
DTEND;VALUE=DATE:20260303
DTSTAMP:20260425T211842
CREATED:20260213T173958Z
LAST-MODIFIED:20260213T173958Z
UID:12244-1772326800-1772413199@bluescafe.nl
SUMMARY:Stoney
DESCRIPTION:
URL:https://bluescafe.nl/event/stoney-8/
END:VEVENT
BEGIN:VEVENT
DTSTART;VALUE=DATE:20260305
DTEND;VALUE=DATE:20260307
DTSTAMP:20260425T211842
CREATED:20260213T174423Z
LAST-MODIFIED:20260213T174423Z
UID:12246-1772672400-1772758799@bluescafe.nl
SUMMARY:Jamsessie
DESCRIPTION:
URL:https://bluescafe.nl/event/jamsessie-60/
END:VEVENT
BEGIN:VEVENT
DTSTART;VALUE=DATE:20260306
DTEND;VALUE=DATE:20260308
DTSTAMP:20260425T211842
CREATED:20251113T173339Z
LAST-MODIFIED:20251113T173339Z
UID:12016-1772758800-1772845199@bluescafe.nl
SUMMARY:Hydra Nova
DESCRIPTION:
URL:https://bluescafe.nl/event/hydra-nova-2/
END:VEVENT
BEGIN:VEVENT
DTSTART;VALUE=DATE:20260307
DTEND;VALUE=DATE:20260309
DTSTAMP:20260425T211842
CREATED:20251113T173424Z
LAST-MODIFIED:20251113T173424Z
UID:12018-1772845200-1772931599@bluescafe.nl
SUMMARY:Brood Gewoon
DESCRIPTION:
URL:https://bluescafe.nl/event/brood-gewoon-3/
END:VEVENT
BEGIN:VEVENT
DTSTART;VALUE=DATE:20260308
DTEND;VALUE=DATE:20260310
DTSTAMP:20260425T211842
CREATED:20251128T163911Z
LAST-MODIFIED:20251128T163911Z
UID:12057-1772931600-1773017999@bluescafe.nl
SUMMARY:Gary & The Guns
DESCRIPTION:
URL:https://bluescafe.nl/event/gary-the-guns-4/
END:VEVENT
BEGIN:VEVENT
DTSTART;VALUE=DATE:20260312
DTEND;VALUE=DATE:20260314
DTSTAMP:20260425T211842
CREATED:20251128T164108Z
LAST-MODIFIED:20251128T164108Z
UID:12059-1773277200-1773363599@bluescafe.nl
SUMMARY:Aynsley Lister
DESCRIPTION:
URL:https://bluescafe.nl/event/aynsley-lister-11/
END:VEVENT
BEGIN:VEVENT
DTSTART;VALUE=DATE:20260313
DTEND;VALUE=DATE:20260315
DTSTAMP:20260425T211842
CREATED:20260108T172511Z
LAST-MODIFIED:20260108T172511Z
UID:12148-1773363600-1773449999@bluescafe.nl
SUMMARY:Straque
DESCRIPTION:
URL:https://bluescafe.nl/event/straque/
END:VEVENT
BEGIN:VEVENT
DTSTART;VALUE=DATE:20260314
DTEND;VALUE=DATE:20260316
DTSTAMP:20260425T211842
CREATED:20251024T163733Z
LAST-MODIFIED:20251024T163733Z
UID:11957-1773450000-1773536399@bluescafe.nl
SUMMARY:Carcle Blaster
DESCRIPTION:
URL:https://bluescafe.nl/event/carcle-blaster/
END:VEVENT
BEGIN:VEVENT
DTSTART;VALUE=DATE:20260315
DTEND;VALUE=DATE:20260317
DTSTAMP:20260425T211842
CREATED:20251024T163819Z
LAST-MODIFIED:20251024T163819Z
UID:11959-1773536400-1773622799@bluescafe.nl
SUMMARY:Kanada Bluesband
DESCRIPTION:
URL:https://bluescafe.nl/event/kanada-bluesband-3/
END:VEVENT
BEGIN:VEVENT
DTSTART;VALUE=DATE:20260319
DTEND;VALUE=DATE:20260321
DTSTAMP:20260425T211842
CREATED:20260108T172551Z
LAST-MODIFIED:20260108T172551Z
UID:12150-1773882000-1773968399@bluescafe.nl
SUMMARY:Geweldige Gasten
DESCRIPTION:
URL:https://bluescafe.nl/event/geweldige-gasten-24/
END:VEVENT
BEGIN:VEVENT
DTSTART;VALUE=DATE:20260320
DTEND;VALUE=DATE:20260322
DTSTAMP:20260425T211842
CREATED:20251113T173514Z
LAST-MODIFIED:20251113T173514Z
UID:12020-1773968400-1774054799@bluescafe.nl
SUMMARY:The Raucy’s
DESCRIPTION:
URL:https://bluescafe.nl/event/the-raucys/
END:VEVENT
BEGIN:VEVENT
DTSTART;VALUE=DATE:20260321
DTEND;VALUE=DATE:20260323
DTSTAMP:20260425T211842
CREATED:20251113T173625Z
LAST-MODIFIED:20251113T175100Z
UID:12022-1774054800-1774141199@bluescafe.nl
SUMMARY:Take a Leak
DESCRIPTION:
URL:https://bluescafe.nl/event/ttake-a-leak/
END:VEVENT
BEGIN:VEVENT
DTSTART;VALUE=DATE:20260322
DTEND;VALUE=DATE:20260324
DTSTAMP:20260425T211842
CREATED:20251113T173700Z
LAST-MODIFIED:20260131T191319Z
UID:12024-1774141200-1774227599@bluescafe.nl
SUMMARY:FourMad
DESCRIPTION:
URL:https://bluescafe.nl/event/tour-mad/
END:VEVENT
BEGIN:VEVENT
DTSTART;VALUE=DATE:20260327
DTEND;VALUE=DATE:20260329
DTSTAMP:20260425T211842
CREATED:20251223T092918Z
LAST-MODIFIED:20251223T092918Z
UID:12104-1774573200-1774659599@bluescafe.nl
SUMMARY:The Razzels
DESCRIPTION:
URL:https://bluescafe.nl/event/the-razzels-2/
END:VEVENT
BEGIN:VEVENT
DTSTART;VALUE=DATE:20260328
DTEND;VALUE=DATE:20260330
DTSTAMP:20260425T211842
CREATED:20251113T173802Z
LAST-MODIFIED:20251128T165231Z
UID:12026-1774659600-1774745999@bluescafe.nl
SUMMARY:Mark van Mourik & Band
DESCRIPTION:
URL:https://bluescafe.nl/event/marcvan-mourik-band/
END:VEVENT
BEGIN:VEVENT
DTSTART;VALUE=DATE:20260329
DTEND;VALUE=DATE:20260331
DTSTAMP:20260425T211842
CREATED:20251113T175425Z
LAST-MODIFIED:20251113T175451Z
UID:12043-1774746000-1774832399@bluescafe.nl
SUMMARY:On the Blue Side
DESCRIPTION:
URL:https://bluescafe.nl/event/in-the-blue-side-2/
END:VEVENT
END:VCALENDAR