BEGIN:VCALENDAR
VERSION:2.0
PRODID:-//Bluescafe Apeldoorn - ECPv6.15.20//NONSGML v1.0//EN
CALSCALE:GREGORIAN
METHOD:PUBLISH
X-WR-CALNAME:Bluescafe Apeldoorn
X-ORIGINAL-URL:https://bluescafe.nl
X-WR-CALDESC:Evenementen voor Bluescafe Apeldoorn
REFRESH-INTERVAL;VALUE=DURATION:PT1H
X-Robots-Tag:noindex
X-PUBLISHED-TTL:PT1H
BEGIN:VTIMEZONE
TZID:Europe/Paris
BEGIN:DAYLIGHT
TZOFFSETFROM:+0100
TZOFFSETTO:+0200
TZNAME:CEST
DTSTART:20250330T010000
END:DAYLIGHT
BEGIN:STANDARD
TZOFFSETFROM:+0200
TZOFFSETTO:+0100
TZNAME:CET
DTSTART:20251026T010000
END:STANDARD
BEGIN:DAYLIGHT
TZOFFSETFROM:+0100
TZOFFSETTO:+0200
TZNAME:CEST
DTSTART:20260329T010000
END:DAYLIGHT
BEGIN:STANDARD
TZOFFSETFROM:+0200
TZOFFSETTO:+0100
TZNAME:CET
DTSTART:20261025T010000
END:STANDARD
BEGIN:DAYLIGHT
TZOFFSETFROM:+0100
TZOFFSETTO:+0200
TZNAME:CEST
DTSTART:20270328T010000
END:DAYLIGHT
BEGIN:STANDARD
TZOFFSETFROM:+0200
TZOFFSETTO:+0100
TZNAME:CET
DTSTART:20271031T010000
END:STANDARD
END:VTIMEZONE
BEGIN:VEVENT
DTSTART;VALUE=DATE:20260904
DTEND;VALUE=DATE:20260906
DTSTAMP:20260426T034812
CREATED:20260416T110928Z
LAST-MODIFIED:20260416T110928Z
UID:12397-1788483600-1788569999@bluescafe.nl
SUMMARY:Social Dephts
DESCRIPTION:
URL:https://bluescafe.nl/event/social-dephts/
END:VEVENT
BEGIN:VEVENT
DTSTART;VALUE=DATE:20260905
DTEND;VALUE=DATE:20260907
DTSTAMP:20260426T034812
CREATED:20260326T130415Z
LAST-MODIFIED:20260326T130415Z
UID:12346-1788570000-1788656399@bluescafe.nl
SUMMARY:Damian
DESCRIPTION:
URL:https://bluescafe.nl/event/damian/
END:VEVENT
BEGIN:VEVENT
DTSTART;VALUE=DATE:20260906
DTEND;VALUE=DATE:20260908
DTSTAMP:20260426T034812
CREATED:20260213T175943Z
LAST-MODIFIED:20260213T175943Z
UID:12266-1788656400-1788742799@bluescafe.nl
SUMMARY:Penny Leen
DESCRIPTION:
URL:https://bluescafe.nl/event/penny-leen-2/
END:VEVENT
BEGIN:VEVENT
DTSTART;VALUE=DATE:20260912
DTEND;VALUE=DATE:20260914
DTSTAMP:20260426T034812
CREATED:20260307T162601Z
LAST-MODIFIED:20260307T162601Z
UID:12308-1789174800-1789261199@bluescafe.nl
SUMMARY:Rebel Gaz
DESCRIPTION:
URL:https://bluescafe.nl/event/rebel-gaz/
END:VEVENT
BEGIN:VEVENT
DTSTART;VALUE=DATE:20260913
DTEND;VALUE=DATE:20260915
DTSTAMP:20260426T034812
CREATED:20260213T180200Z
LAST-MODIFIED:20260213T180200Z
UID:12270-1789261200-1789347599@bluescafe.nl
SUMMARY:4 Horseman
DESCRIPTION:
URL:https://bluescafe.nl/event/4-horseman/
END:VEVENT
BEGIN:VEVENT
DTSTART;VALUE=DATE:20260919
DTEND;VALUE=DATE:20260921
DTSTAMP:20260426T034812
CREATED:20260326T130441Z
LAST-MODIFIED:20260326T130441Z
UID:12348-1789779600-1789865999@bluescafe.nl
SUMMARY:Rosie
DESCRIPTION:
URL:https://bluescafe.nl/event/rosie-2/
END:VEVENT
BEGIN:VEVENT
DTSTART;VALUE=DATE:20260919
DTEND;VALUE=DATE:20260921
DTSTAMP:20260426T034812
CREATED:20260416T110957Z
LAST-MODIFIED:20260416T110957Z
UID:12399-1789779600-1789865999@bluescafe.nl
SUMMARY:EB Bluesband
DESCRIPTION:
URL:https://bluescafe.nl/event/eb-bluesband-2/
END:VEVENT
BEGIN:VEVENT
DTSTART;VALUE=DATE:20260926
DTEND;VALUE=DATE:20260928
DTSTAMP:20260426T034812
CREATED:20260130T172619Z
LAST-MODIFIED:20260130T172619Z
UID:12214-1790384400-1790470799@bluescafe.nl
SUMMARY:Master of Spam
DESCRIPTION:
URL:https://bluescafe.nl/event/master-of-spam/
END:VEVENT
BEGIN:VEVENT
DTSTART;VALUE=DATE:20260927
DTEND;VALUE=DATE:20260929
DTSTAMP:20260426T034812
CREATED:20251223T093846Z
LAST-MODIFIED:20251223T093846Z
UID:12128-1790470800-1790557199@bluescafe.nl
SUMMARY:Kanada Bluesband
DESCRIPTION:
URL:https://bluescafe.nl/event/kanada-bluesband-5/
END:VEVENT
END:VCALENDAR