BEGIN:VCALENDAR
VERSION:2.0
PRODID:-//Bluescafe Apeldoorn - ECPv6.15.20//NONSGML v1.0//EN
CALSCALE:GREGORIAN
METHOD:PUBLISH
X-WR-CALNAME:Bluescafe Apeldoorn
X-ORIGINAL-URL:https://bluescafe.nl
X-WR-CALDESC:Evenementen voor Bluescafe Apeldoorn
REFRESH-INTERVAL;VALUE=DURATION:PT1H
X-Robots-Tag:noindex
X-PUBLISHED-TTL:PT1H
BEGIN:VTIMEZONE
TZID:Europe/Paris
BEGIN:DAYLIGHT
TZOFFSETFROM:+0100
TZOFFSETTO:+0200
TZNAME:CEST
DTSTART:20250330T010000
END:DAYLIGHT
BEGIN:STANDARD
TZOFFSETFROM:+0200
TZOFFSETTO:+0100
TZNAME:CET
DTSTART:20251026T010000
END:STANDARD
BEGIN:DAYLIGHT
TZOFFSETFROM:+0100
TZOFFSETTO:+0200
TZNAME:CEST
DTSTART:20260329T010000
END:DAYLIGHT
BEGIN:STANDARD
TZOFFSETFROM:+0200
TZOFFSETTO:+0100
TZNAME:CET
DTSTART:20261025T010000
END:STANDARD
BEGIN:DAYLIGHT
TZOFFSETFROM:+0100
TZOFFSETTO:+0200
TZNAME:CEST
DTSTART:20270328T010000
END:DAYLIGHT
BEGIN:STANDARD
TZOFFSETFROM:+0200
TZOFFSETTO:+0100
TZNAME:CET
DTSTART:20271031T010000
END:STANDARD
END:VTIMEZONE
BEGIN:VEVENT
DTSTART;VALUE=DATE:20261002
DTEND;VALUE=DATE:20261004
DTSTAMP:20260426T052937
CREATED:20251223T093753Z
LAST-MODIFIED:20251223T093753Z
UID:12126-1790902800-1790989199@bluescafe.nl
SUMMARY:Richard Grosso
DESCRIPTION:
URL:https://bluescafe.nl/event/richard-grosso-2/
END:VEVENT
BEGIN:VEVENT
DTSTART;VALUE=DATE:20261003
DTEND;VALUE=DATE:20261005
DTSTAMP:20260426T052937
CREATED:20260130T172749Z
LAST-MODIFIED:20260130T172822Z
UID:12216-1790989200-1791075599@bluescafe.nl
SUMMARY:Groove on the Roof
DESCRIPTION:
URL:https://bluescafe.nl/event/groove-on-the-roof-6/
END:VEVENT
BEGIN:VEVENT
DTSTART;VALUE=DATE:20261004
DTEND;VALUE=DATE:20261006
DTSTAMP:20260426T052937
CREATED:20260130T173002Z
LAST-MODIFIED:20260130T173002Z
UID:12218-1791075600-1791161999@bluescafe.nl
SUMMARY:Shinkickers (Gallagher Tribute )
DESCRIPTION:
URL:https://bluescafe.nl/event/shinkickers-gallagher-tribute/
END:VEVENT
BEGIN:VEVENT
DTSTART;VALUE=DATE:20261010
DTEND;VALUE=DATE:20261012
DTSTAMP:20260426T052937
CREATED:20260326T130531Z
LAST-MODIFIED:20260326T130923Z
UID:12351-1791594000-1791680399@bluescafe.nl
SUMMARY:Amy‘s Legacy
DESCRIPTION:
URL:https://bluescafe.nl/event/amys-legacy-2/
END:VEVENT
BEGIN:VEVENT
DTSTART;VALUE=DATE:20261011
DTEND;VALUE=DATE:20261013
DTSTAMP:20260426T052937
CREATED:20260307T162725Z
LAST-MODIFIED:20260307T162725Z
UID:12310-1791680400-1791766799@bluescafe.nl
SUMMARY:Bluestreat
DESCRIPTION:
URL:https://bluescafe.nl/event/bluestreat-2/
END:VEVENT
BEGIN:VEVENT
DTSTART;VALUE=DATE:20261017
DTEND;VALUE=DATE:20261019
DTSTAMP:20260426T052937
CREATED:20260213T180319Z
LAST-MODIFIED:20260213T180319Z
UID:12272-1792198800-1792285199@bluescafe.nl
SUMMARY:The Sinners
DESCRIPTION:
URL:https://bluescafe.nl/event/the-sinners/
END:VEVENT
BEGIN:VEVENT
DTSTART;VALUE=DATE:20261018
DTEND;VALUE=DATE:20261020
DTSTAMP:20260426T052937
CREATED:20260130T173132Z
LAST-MODIFIED:20260130T173132Z
UID:12220-1792285200-1792371599@bluescafe.nl
SUMMARY:Mistery Walk
DESCRIPTION:
URL:https://bluescafe.nl/event/mistery-walk/
END:VEVENT
BEGIN:VEVENT
DTSTART;VALUE=DATE:20261024
DTEND;VALUE=DATE:20261026
DTSTAMP:20260426T052937
CREATED:20251113T174809Z
LAST-MODIFIED:20251113T174809Z
UID:12037-1792803600-1792889999@bluescafe.nl
SUMMARY:Highway R&B Gang
DESCRIPTION:
URL:https://bluescafe.nl/event/highway-rb-gang-3/
END:VEVENT
BEGIN:VEVENT
DTSTART;VALUE=DATE:20261025
DTEND;VALUE=DATE:20261027
DTSTAMP:20260426T052937
CREATED:20260130T173244Z
LAST-MODIFIED:20260130T173244Z
UID:12222-1792890000-1792976399@bluescafe.nl
SUMMARY:Doctors Order
DESCRIPTION:
URL:https://bluescafe.nl/event/doctors-order-2/
END:VEVENT
BEGIN:VEVENT
DTSTART;VALUE=DATE:20261030
DTEND;VALUE=DATE:20261101
DTSTAMP:20260426T052937
CREATED:20260416T111028Z
LAST-MODIFIED:20260416T111028Z
UID:12401-1793322000-1793408399@bluescafe.nl
SUMMARY:BuB
DESCRIPTION:
URL:https://bluescafe.nl/event/bub-2/
END:VEVENT
BEGIN:VEVENT
DTSTART;VALUE=DATE:20261031
DTEND;VALUE=DATE:20261102
DTSTAMP:20260426T052937
CREATED:20260326T130955Z
LAST-MODIFIED:20260326T130955Z
UID:12353-1793408400-1793494799@bluescafe.nl
SUMMARY:Sence of Urgency
DESCRIPTION:
URL:https://bluescafe.nl/event/sence-of-urgency-2/
END:VEVENT
END:VCALENDAR